BEGIN:VCALENDAR
VERSION:2.0
PRODID:-//El Valor - ECPv6.15.20//NONSGML v1.0//EN
CALSCALE:GREGORIAN
METHOD:PUBLISH
X-WR-CALNAME:El Valor
X-ORIGINAL-URL:https://elvalor.org
X-WR-CALDESC:Events for El Valor
REFRESH-INTERVAL;VALUE=DURATION:PT1H
X-Robots-Tag:noindex
X-PUBLISHED-TTL:PT1H
BEGIN:VTIMEZONE
TZID:America/Chicago
BEGIN:DAYLIGHT
TZOFFSETFROM:-0600
TZOFFSETTO:-0500
TZNAME:CDT
DTSTART:20240310T080000
END:DAYLIGHT
BEGIN:STANDARD
TZOFFSETFROM:-0500
TZOFFSETTO:-0600
TZNAME:CST
DTSTART:20241103T070000
END:STANDARD
BEGIN:DAYLIGHT
TZOFFSETFROM:-0600
TZOFFSETTO:-0500
TZNAME:CDT
DTSTART:20250309T080000
END:DAYLIGHT
BEGIN:STANDARD
TZOFFSETFROM:-0500
TZOFFSETTO:-0600
TZNAME:CST
DTSTART:20251102T070000
END:STANDARD
BEGIN:DAYLIGHT
TZOFFSETFROM:-0600
TZOFFSETTO:-0500
TZNAME:CDT
DTSTART:20260308T080000
END:DAYLIGHT
BEGIN:STANDARD
TZOFFSETFROM:-0500
TZOFFSETTO:-0600
TZNAME:CST
DTSTART:20261101T070000
END:STANDARD
END:VTIMEZONE
BEGIN:VEVENT
DTSTART;TZID=America/Chicago:20250227T080000
DTEND;TZID=America/Chicago:20250227T170000
DTSTAMP:20260419T142137
CREATED:20250227T172518Z
LAST-MODIFIED:20250227T172528Z
UID:10000397-1740643200-1740675600@elvalor.org
SUMMARY:Job Fair 2025
DESCRIPTION:El Valor Job Fair – Hiring for All Locations! \nLooking for a rewarding career? Join us for on-the-spot interviews for available positions at all four of our centers. Please bring your resume! \nMarch 15 | 9:00 AM – 12:00 PMLocations: \n\nRey B. Gonzalez Children & Family Center – 3050 E. 92nd St\, Chicago\, IL 60617\nCicero Children & Family Center – 5310 W. 24th Pl\, Cicero\, IL 60804\n\nTo register for a time slot\, contact Ms. Perla Ramos at (312) 997-2021.
URL:https://elvalor.org/event/jobfair25/
CATEGORIES:Upcoming Events
END:VEVENT
END:VCALENDAR